BEGIN:VCALENDAR
VERSION:2.0
PRODID:-//Martin Chiffers International Executive Pastry Chef Consultant - ECPv6.15.20//NONSGML v1.0//EN
CALSCALE:GREGORIAN
METHOD:PUBLISH
X-ORIGINAL-URL:https://www.martinchiffers.com/art
X-WR-CALDESC:Events for Martin Chiffers International Executive Pastry Chef Consultant
REFRESH-INTERVAL;VALUE=DURATION:PT1H
X-Robots-Tag:noindex
X-PUBLISHED-TTL:PT1H
BEGIN:VTIMEZONE
TZID:Europe/London
BEGIN:DAYLIGHT
TZOFFSETFROM:+0000
TZOFFSETTO:+0100
TZNAME:BST
DTSTART:20210328T010000
END:DAYLIGHT
BEGIN:STANDARD
TZOFFSETFROM:+0100
TZOFFSETTO:+0000
TZNAME:GMT
DTSTART:20211031T010000
END:STANDARD
BEGIN:DAYLIGHT
TZOFFSETFROM:+0000
TZOFFSETTO:+0100
TZNAME:BST
DTSTART:20220327T010000
END:DAYLIGHT
BEGIN:STANDARD
TZOFFSETFROM:+0100
TZOFFSETTO:+0000
TZNAME:GMT
DTSTART:20221030T010000
END:STANDARD
BEGIN:DAYLIGHT
TZOFFSETFROM:+0000
TZOFFSETTO:+0100
TZNAME:BST
DTSTART:20230326T010000
END:DAYLIGHT
BEGIN:STANDARD
TZOFFSETFROM:+0100
TZOFFSETTO:+0000
TZNAME:GMT
DTSTART:20231029T010000
END:STANDARD
END:VTIMEZONE
BEGIN:VEVENT
DTSTART;VALUE=DATE:20220210
DTEND;VALUE=DATE:20220219
DTSTAMP:20260426T001011
CREATED:20211008T100927Z
LAST-MODIFIED:20220208T101442Z
UID:10000076-1644451200-1645228799@www.martinchiffers.com
SUMMARY:Be Chef Pastry School
DESCRIPTION:Knowledge exchange\, coaching training\nBe Chef Escuela de Pastelería\nSpain Barcelona – Be Chef Pastry School\nKnowledge exchange\, coaching training\, sharing & disseminating of Pastry and Chocolate knowledge\, collaboration and R&D.
URL:https://www.martinchiffers.com/art/event/be-chef-pastry-school/
LOCATION:Bee Chef Pastry School\, Be Chef - Escuela de Pastelería Carrer d'En Domènec\, 27 C\, Barcelona\, Sant Joan Despí\, 08970\, Spain
CATEGORIES:COACHING,COMPETITIONS,EXCHANGE
ATTACH;FMTTYPE=image/jpeg:https://www.martinchiffers.com/art/wp-content/uploads/2021/10/BEE_CHEF_PASTRY_SCHOOL_200X200.jpg
END:VEVENT
END:VCALENDAR