BEGIN:VCALENDAR
VERSION:2.0
PRODID:-//Martin Chiffers International Executive Pastry Chef Consultant - ECPv6.15.20//NONSGML v1.0//EN
CALSCALE:GREGORIAN
METHOD:PUBLISH
X-ORIGINAL-URL:https://www.martinchiffers.com/art
X-WR-CALDESC:Events for Martin Chiffers International Executive Pastry Chef Consultant
REFRESH-INTERVAL;VALUE=DURATION:PT1H
X-Robots-Tag:noindex
X-PUBLISHED-TTL:PT1H
BEGIN:VTIMEZONE
TZID:Europe/London
BEGIN:DAYLIGHT
TZOFFSETFROM:+0000
TZOFFSETTO:+0100
TZNAME:BST
DTSTART:20220327T010000
END:DAYLIGHT
BEGIN:STANDARD
TZOFFSETFROM:+0100
TZOFFSETTO:+0000
TZNAME:GMT
DTSTART:20221030T010000
END:STANDARD
BEGIN:DAYLIGHT
TZOFFSETFROM:+0000
TZOFFSETTO:+0100
TZNAME:BST
DTSTART:20230326T010000
END:DAYLIGHT
BEGIN:STANDARD
TZOFFSETFROM:+0100
TZOFFSETTO:+0000
TZNAME:GMT
DTSTART:20231029T010000
END:STANDARD
BEGIN:DAYLIGHT
TZOFFSETFROM:+0000
TZOFFSETTO:+0100
TZNAME:BST
DTSTART:20240331T010000
END:DAYLIGHT
BEGIN:STANDARD
TZOFFSETFROM:+0100
TZOFFSETTO:+0000
TZNAME:GMT
DTSTART:20241027T010000
END:STANDARD
END:VTIMEZONE
BEGIN:VEVENT
DTSTART;VALUE=DATE:20231021
DTEND;VALUE=DATE:20231102
DTSTAMP:20260420T033527
CREATED:20230129T202926Z
LAST-MODIFIED:20231004T004753Z
UID:10000110-1697846400-1698883199@www.martinchiffers.com
SUMMARY:BREADAHEAD JEDDAH
DESCRIPTION:Bread Ahead\nBespoke development followed by and exclusive hands on speciality Masterclass by Martin Chiffers \nTBC
URL:https://www.martinchiffers.com/art/event/bread-ahead-2/
LOCATION:Bread Ahead\, 6403 King Abdul Aziz Road\, Jeddah\, Al Zahra\, 23424\, Saudi Arabia
CATEGORIES:MASTERCLASS,PROMOTION
ATTACH;FMTTYPE=image/png:https://www.martinchiffers.com/art/wp-content/uploads/2023/01/bread-ahead-logo-bakery-school.png
ORGANIZER;CN="Martin Chiffers":MAILTO:contact@martinchiffers.com
GEO:21.57669197564;39.127377962678
X-APPLE-STRUCTURED-LOCATION;VALUE=URI;X-ADDRESS=Bread Ahead 6403 King Abdul Aziz Road Jeddah Al Zahra 23424 Saudi Arabia;X-APPLE-RADIUS=500;X-TITLE=6403 King Abdul Aziz Road:geo:39.127377962678,21.57669197564
END:VEVENT
END:VCALENDAR