BEGIN:VCALENDAR
VERSION:2.0
PRODID:-//Martin Chiffers International Executive Pastry Chef Consultant - ECPv6.15.20//NONSGML v1.0//EN
CALSCALE:GREGORIAN
METHOD:PUBLISH
X-WR-CALNAME:Martin Chiffers International Executive Pastry Chef Consultant
X-ORIGINAL-URL:https://www.martinchiffers.com/art
X-WR-CALDESC:Events for Martin Chiffers International Executive Pastry Chef Consultant
REFRESH-INTERVAL;VALUE=DURATION:PT1H
X-Robots-Tag:noindex
X-PUBLISHED-TTL:PT1H
BEGIN:VTIMEZONE
TZID:Europe/Sofia
BEGIN:DAYLIGHT
TZOFFSETFROM:+0200
TZOFFSETTO:+0300
TZNAME:EEST
DTSTART:20230326T010000
END:DAYLIGHT
BEGIN:STANDARD
TZOFFSETFROM:+0300
TZOFFSETTO:+0200
TZNAME:EET
DTSTART:20231029T010000
END:STANDARD
BEGIN:DAYLIGHT
TZOFFSETFROM:+0200
TZOFFSETTO:+0300
TZNAME:EEST
DTSTART:20240331T010000
END:DAYLIGHT
BEGIN:STANDARD
TZOFFSETFROM:+0300
TZOFFSETTO:+0200
TZNAME:EET
DTSTART:20241027T010000
END:STANDARD
BEGIN:DAYLIGHT
TZOFFSETFROM:+0200
TZOFFSETTO:+0300
TZNAME:EEST
DTSTART:20250330T010000
END:DAYLIGHT
BEGIN:STANDARD
TZOFFSETFROM:+0300
TZOFFSETTO:+0200
TZNAME:EET
DTSTART:20251026T010000
END:STANDARD
END:VTIMEZONE
BEGIN:VEVENT
DTSTART;TZID=Europe/Sofia:20241015T090000
DTEND;TZID=Europe/Sofia:20241017T180000
DTSTAMP:20260420T031101
CREATED:20240410T172308Z
LAST-MODIFIED:20240827T230606Z
UID:10000112-1728982800-1729188000@www.martinchiffers.com
SUMMARY:CHOCOLATE SHOWPIECE CLASS
DESCRIPTION:CHOCOLATE SCULPTURE SHOWPIECE CLASS \nChocolate Showpiece Masterclass \nChocolate Sculpture Showpiece at HRC Academy Bulgaria \nDate: 15th 16th 17th October 2024 – HRC ACADEMY BULGARIA \nStudent will be taken through the process of designing\, planning and constructing a Chocolate Showpiece. Techniques will cover the complete process from idea and design to display\, Using elegant curves in the design with a theme that embellishes beauty. \nChocolate Sculpture – 3 days \n\nShowpiece design and construction\nPlanning and drawing your Sculpture to full scale\n \n\nMaterials and Tools\nCasting and Forming\nUsing moulds\nModelling with cold emulsion\nCarving and shaping\nColourings and making colours\nSpraying and Painting\nFlower Making\nAssembling & Bonding\nFinishing and Presentation\n*Early Bird registration until 15.09.2024 – 1680 BGN1850 BGN For registration after 15.09.2024
URL:https://www.martinchiffers.com/art/event/choc-showpiece-bg/
LOCATION:HRC Culinary Academy\, 59 Tsar Boris III Blvd\, Sofia\, Sofia\, 1612\, Bulgaria
CATEGORIES:DEMONSTRATION,MASTERCLASS
ATTACH;FMTTYPE=image/jpeg:https://www.martinchiffers.com/art/wp-content/uploads/2021/05/HRC_ACADEMY_BULGARIA.jpg
ORGANIZER;CN="Martin Chiffers":MAILTO:contact@martinchiffers.com
END:VEVENT
END:VCALENDAR