BEGIN:VCALENDAR
VERSION:2.0
PRODID:-//Martin Chiffers International Executive Pastry Chef Consultant - ECPv6.15.20//NONSGML v1.0//EN
CALSCALE:GREGORIAN
METHOD:PUBLISH
X-ORIGINAL-URL:https://www.martinchiffers.com/art
X-WR-CALDESC:Events for Martin Chiffers International Executive Pastry Chef Consultant
REFRESH-INTERVAL;VALUE=DURATION:PT1H
X-Robots-Tag:noindex
X-PUBLISHED-TTL:PT1H
BEGIN:VTIMEZONE
TZID:Europe/London
BEGIN:DAYLIGHT
TZOFFSETFROM:+0000
TZOFFSETTO:+0100
TZNAME:BST
DTSTART:20220327T010000
END:DAYLIGHT
BEGIN:STANDARD
TZOFFSETFROM:+0100
TZOFFSETTO:+0000
TZNAME:GMT
DTSTART:20221030T010000
END:STANDARD
BEGIN:DAYLIGHT
TZOFFSETFROM:+0000
TZOFFSETTO:+0100
TZNAME:BST
DTSTART:20230326T010000
END:DAYLIGHT
BEGIN:STANDARD
TZOFFSETFROM:+0100
TZOFFSETTO:+0000
TZNAME:GMT
DTSTART:20231029T010000
END:STANDARD
BEGIN:DAYLIGHT
TZOFFSETFROM:+0000
TZOFFSETTO:+0100
TZNAME:BST
DTSTART:20240331T010000
END:DAYLIGHT
BEGIN:STANDARD
TZOFFSETFROM:+0100
TZOFFSETTO:+0000
TZNAME:GMT
DTSTART:20241027T010000
END:STANDARD
END:VTIMEZONE
BEGIN:VEVENT
DTSTART;VALUE=DATE:20230509
DTEND;VALUE=DATE:20230520
DTSTAMP:20260422T224756
CREATED:20230129T202926Z
LAST-MODIFIED:20230513T021544Z
UID:10000099-1683590400-1684540799@www.martinchiffers.com
SUMMARY:Bespoke Development
DESCRIPTION:Bespoke development followed by and exclusive hands on Japanese / Korean & French speciality Masterclass by Martin Chiffers \n18th May 2023 \n10 am – 2pmMorning Class 4 HrsAsian Korean Japanese  \nAfter spending many years working in Korea & Japan\, Martin will share his secrets of popular and favourite Korean and Japanese breads\, buttery coconut sweet bread\, the popular Korean Soboro and Mammoth\, mouth watering Korean garlic cheese bread and super soft Japanese Hokkaido Milk Bread \n\nCoconut Butter Bread\nSoboro / Mammoth Bread\, Peanut Streusel Bread\nHokkaido Milk Bead\nKorean Garlic Cheese Bread\n\n18th May 2023 \n4pm – 8pmAfternoon Class 4 HrsMartin will share some of his favourite timeless French classics.Beautiful Brioche Tarte Tropézienne gently soaked with Orange blossom and filled with vanilla cream diplomat\, Craquline aux Chocolate brioche loaded with chocolate pieces\, and the unforgettable Vanilla & Chocolate Canelé but elevated to another level with chocolate and various toppings \n\nBrioche Tarte Tropézienne \nCraquline aux Chocolate\nVanilla Canelé \nChocolate Canelé
URL:https://www.martinchiffers.com/art/event/bread-ahead/
LOCATION:Bread Ahead\, 6403 King Abdul Aziz Road\, Jeddah\, Al Zahra\, 23424\, Saudi Arabia
CATEGORIES:MASTERCLASS,PROMOTION
ATTACH;FMTTYPE=image/png:https://www.martinchiffers.com/art/wp-content/uploads/2023/01/bread-ahead-logo-bakery-school.png
ORGANIZER;CN="Martin Chiffers":MAILTO:contact@martinchiffers.com
GEO:21.57669197564;39.127377962678
X-APPLE-STRUCTURED-LOCATION;VALUE=URI;X-ADDRESS=Bread Ahead 6403 King Abdul Aziz Road Jeddah Al Zahra 23424 Saudi Arabia;X-APPLE-RADIUS=500;X-TITLE=6403 King Abdul Aziz Road:geo:39.127377962678,21.57669197564
END:VEVENT
END:VCALENDAR